Workbook

Sheet 10号
A1: 様式第10号（第12条関係）
A3: 助 成 事 業 実 績 報 告 書
I6: 第 号
I7: 令和 年 月 日
A8: 社会福祉法人
A9: 兵庫県社会福祉協議会会長 様
F11: 郵便番号 〒
F12: 住所 兵庫県
F13: 団体名
F14: 代表者職名
F15: 代表者氏名
F16: 電話番号
F17: 電子メール
A20: 令和８年６月１５日付兵社ボ発第５８号で交付決定のあった令和８年度ひょうごボランタリー基金地域づくり
A21: 活動ＮＰＯ事業助成事業を下記のとおり実施したので、助成金交付要綱第１２条の規定によりその実績を
A22: 報告します。
F24: 記
B27: １ 収支決算書（別記）
B30: ２ 添付書類
B31: 地域づくり活動ＮＰＯ事業助成事業実績報告書（別紙様式４号）
B32: 事業経費にかかる領収書等
B33: 事業の成果物
B34: 活動状況を示す書類・写真 他

Sheet ４号
A1: （別紙様式４号）
A2: 地域づくり活動ＮＰＯ事業助成事業実績報告書
A4: 団体名 | C4: ='10号'!G13 -> 0
A6: 代表者 | F6: ふりがな
D7: （職名） | E7: ='10号'!G14 -> 0 | F7: （氏名） | G7: ='10号'!G15 -> 0
A8: 事業名 | C8: =VLOOKUP(C4,★団体交付決定一覧!D2:E49,2,FALSE) -> #N/A
A11: ⑴ 事業実施実績
A12: 年月日 | D12: 場所 | E12: 参加者 | F12: 活動内容
A13: 定例は「月1回」 | E13: 一般 | F13: （勉強会や定例会、講演会、イベントなどを３行以内で記入）
A14: 「毎〇曜日」等で記入 | E14: (ｽﾀｯﾌ) | F14: ※講演会、イベント等はタイトル・講師・会場等を併記
K34: 事業費総額から30％以上事業費が
K37: 変更なし
K38: 変更あり⇒下の表に具体的に記載して下さい。
A56: ⑴ 事業計画との整合性
K57: 増減しません。
E58: =IF(B57="変更なし"," ","事業費総額から30％以上事業費が") -> 事業費総額から30％以上事業費が | K58: 増減するため、別途変更申請を提出します。
B61: 計 画 | E61: 実 績 | G61: 変 更 理 由
A71: 効果・成果、今後の展望
A72: 【事業の効果・成果】 | K72: 大いに達成
A73: (1) 事業計画に対する達成度 | K73: 概ね達成
K74: やや不十分
A75: (2) 事業の目的に対する結果 | K75: 達成できていない
A77: (3) 選考委員会の採択意見を踏まえて、どのような成果等があったかについて記載してください。 | K77: 大きく成果をあげた
A78: （採択意見）※交付決定時に通知した採択意見を転記してください | K78: 成果をあげた
K79: やや成果をあげた
K80: 成果を上げなかった
A82: （効果と成果等）※10行以内で記載してください。
A93: (4) 連携と協働の成果 ※連携・協働した団体との活動状況を10行以内で記載してください。
A104: (5) 継続事業の場合､前年度、前々年度の実績を踏まえどのような進展があったか10行以内で記載してください。 | K104: ３年目
B105: １年目(記載不要) | K105: ２年目
K106: １年目(記載不要)
A116: (6)事業成果物
A117: ※ 作成した報告書、冊子、印刷物など：現物を1部提出（コピー・ゲラは不可）
A118: ※ アンケート結果、動画・ビデオ・HPなど:データの提出(ＣＤ－Ｒ、データーファイル便等）、
A119: YouTube等ＵＲＬ記載
A120: 【今後の展望】
A121: 発見された課題や今後の課題や取り組みについて10行以内で記載してください。
A132: 意見・感想など
A133: その他、事業を実施して感じたこと、ご意見などがありましたらご記入ください。
A139: 【活動の記録写真】
...

Sheet 明細書
B2: 領収書一覧表 | M2: 領収書一覧表 | Y2: 領収書一覧表 | AK2: 領収書一覧表
B3: （直接経費） | N3: （直接経費） | Z3: （間接経費） | AL3: （間接経費）
B5: 領収書 整理 番号 | C5: 領収書日付 | D5: 金額 | F5: 領収書 整理 番号 | G5: 領収書日付 | H5: 金額 | J5: 領収書 整理 番号 | K5: 領収書日付 | L5: 金額 | N5: 領収書 整理 番号 | O5: 領収書日付 | P5: 金額 | R5: 領収書 整理 番号 | S5: 領収書日付 | T5: 金額 | V5: 領収書 整理 番号 | W5: 領収書日付 | X5: 金額 | Z5: 領収書 整理 番号 | AA5: 領収書日付 | AB5: 金額 | AD5: 領収書 整理 番号 | AE5: 領収書日付 | AF5: 金額 | AH5: 領収書 整理 番号 | AI5: 領収書日付 | AJ5: 金額 | AL5: 領収書 整理 番号 | AM5: 領収書日付 | AN5: 金額 | AP5: 領収書 整理 番号 | AQ5: 領収書日付 | AR5: 金額 | AT5: 領収書 整理 番号 | AU5: 領収書日付 | AV5: 金額
B6: 1 | F6: 1 | J6: 1 | N6: 1 | R6: 1 | V6: 1 | Z6: 1 | AD6: 1 | AH6: 1 | AL6: 1 | AP6: 1 | AT6: 1
B7: 2 | F7: 2 | J7: 2 | N7: 2 | R7: 2 | V7: 2 | Z7: 2 | AD7: 2 | AH7: 2 | AL7: 2 | AP7: 2 | AT7: 2
B8: 3 | F8: 3 | J8: 3 | N8: 3 | R8: 3 | V8: 3 | Z8: 3 | AD8: 3 | AH8: 3 | AL8: 3 | AP8: 3 | AT8: 3
B9: 4 | F9: 4 | J9: 4 | N9: 4 | R9: 4 | V9: 4 | Z9: 4 | AD9: 4 | AH9: 4 | AL9: 4 | AP9: 4 | AT9: 4
B10: 5 | F10: 5 | J10: 5 | N10: 5 | R10: 5 | V10: 5 | Z10: 5 | AD10: 5 | AH10: 5 | AL10: 5 | AP10: 5 | AT10: 5
B11: 6 | F11: 6 | J11: 6 | N11: 6 | R11: 6 | V11: 6 | Z11: 6 | AD11: 6 | AH11: 6 | AL11: 6 | AP11: 6 | AT11: 6
B12: 7 | F12: 7 | J12: 7 | N12: 7 | R12: 7 | V12: 7 | Z12: 7 | AD12: 7 | AH12: 7 | AL12: 7 | AP12: 7 | AT12: 7
B13: 8 | F13: 8 | J13: 8 | N13: 8 | R13: 8 | V13: 8 | Z13: 8 | AD13: 8 | AH13: 8 | AL13: 8 | AP13: 8 | AT13: 8
B14: 9 | F14: 9 | J14: 9 | N14: 9 | R14: 9 | V14: 9 | Z14: 9 | AD14: 9 | AH14: 9 | AL14: 9 | AP14: 9 | AT14: 9
B15: 10 | F15: 10 | J15: 10 | N15: 10 | R15: 10 | V15: 10 | Z15: 10 | AD15: 10 | AH15: 10 | AL15: 10 | AP15: 10 | AT15: 10
B16: 11 | F16: 11 | J16: 11 | N16: 11 | R16: 11 | V16: 11 | Z16: 11 | AD16: 11 | AH16: 11 | AL16: 11 | AP16: 11 | AT16: 11
B17: 12 | F17: 12 | J17: 12 | N17: 12 | R17: 12 | V17: 12 | Z17: 12 | AD17: 12 | AH17: 12 | AL17: 12 | AP17: 12 | AT17: 12
... B45: 40 | F45: 40 | J45: 40 | N45: 40 | R45: 40 | V45: 40 | Z45: 40 | AD45: 40 | AH45: 40 | AL45: 40 | AP45: 40 | AT45: 40
B46: 小 計 | D46: =SUM(D6:D45) -> 0 | F46: 小 計 | H46: =SUM(H6:H45) -> 0 | J46: 小 計 | L46: =SUM(L6:L45) -> 0 | N46: 小 計 | P46: =SUM(P6:P45) -> 0 | R46: 小 計 | T46: =SUM(T6:T45) -> 0 | V46: 小 計 | X46: =SUM(X6:X45) -> 0 | Z46: 小 計 | AB46: =SUM(AB6:AB45) -> 0 | AD46: 小 計 | AF46: =SUM(AF6:AF45) -> 0 | AH46: 小 計 | AJ46: =SUM(AJ6:AJ45) -> 0 | AL46: 小 計 | AN46: =SUM(AN6:AN45) -> 0 | AP46: 小 計 | AR46: =SUM(AR6:AR45) -> 0 | AT46: 小 計 | AV46: =SUM(AV6:AV45) -> 0
L47: =D46+H46+L46 -> 0 | X47: =P46+T46+X46 -> 0 | AJ47: =AB46+AF46+AJ46 -> 0 | AV47: =AN46+AR46+AV46 -> 0
X48: =L47+X47 -> 0 | AJ48: =L47+X47+AJ47 -> 0 | AV48: =AJ48+AV47 -> 0
B49: 人件費
B50: 謝金
B51: 旅費交通費
B52: 消耗品費
B53: 印刷費
B54: 資材費
B55: 食材費
B56: 広報費
B57: 通信費
B58: 運搬費
B59: 保険料
B60: 手数料

Sheet 収支決算書
A2: 別記 | E2: 地域づくり活動事業 団体名（ | F2: ='10号'!G13 -> 0 | H2: ）
A4: 収 支 決 算 書
A6: （ 収 入 ）
B7: 項 目 | D7: 金額の内容・積算根拠 | F7: 金額（円）
B8: 地域づくり活動NPO事業助成金 | D8: ='４号'!C8 -> #N/A | F8: =VLOOKUP(F2,★団体交付決定一覧!D2:F49,3,FALSE) -> #N/A | G8: ※助成金額は
G9: 千円未満切捨て
B14: 合 計 | F14: =F8+F10+F12 -> #N/A
F15: =F9+F11+F13 -> 0
A19: （ 支 出 ） | J19: 【チェックポイント】
B20: 区分 | C20: 項 目 | D20: 金額の内容・積算根拠 | F20: 金額（円） | G20: 左のうち 助成対象金額 | J20: ① 収支予算書に記載のない項目を新設する場合
B21: 直 接 経 費 | C21: =明細書!B4 -> 0 | J21: (収入)・(支出)の金額欄・助成対象金額欄の上段は〔 0 〕
F22: =明細書!D46 -> 0 | K22: (収入)項目の場合 ⇒ 相談不要
C23: =明細書!F4 -> 0 | K23: (支出)項目の場合 ⇒ 事務局に相談を！⇒承認が必要です
F24: =明細書!H46 -> 0 | J24: ② 備品費の助成対象金額は助成額の20％以内
C25: =明細書!J4 -> 0 | J25: ③ 間接経費の助成対象額は助成額の30％以内
F26: =明細書!L46 -> 0 | J26: ④ 行を追加・削除した場合、エクセルの計算式が反映されているか確認
C27: =明細書!N4 -> 0
F28: =明細書!P46 -> 0 | J28: =$F$22 -> 0 | K28: =G22 -> 0 | L28: =F21 -> 0 | M28: =G21 -> 0
C29: =明細書!R4 -> 0 | J29: =$F$24 -> 0 | K29: =G24 -> 0 | L29: =F23 -> 0 | M29: =G23 -> 0
F30: =明細書!T46 -> 0 | J30: =$F$26 -> 0 | K30: =G26 -> 0 | L30: =F25 -> 0 | M30: =G25 -> 0
C31: 小 計 | F31: =F21+F23+F25+F27+F29 -> 0 | G31: =G21+G23+G25+G27+G29 -> 0 | J31: =$F$28 -> 0 | K31: =G28 -> 0 | L31: =F27 -> 0 | M31: =G27 -> 0
F32: =F22+F24+F26+F28+F30 -> 0 | G32: =G22+G24+G26+G28+G30 -> 0 | J32: =$F$30 -> 0 | K32: =G30 -> 0 | L32: =F29 -> 0 | M32: =G29 -> 0
B33: 間接経費（一般管理費） | C33: =明細書!Z4 -> 0
F34: =明細書!AB46 -> 0
C35: =明細書!AD4 -> 0 | J35: =F34 -> 0 | K35: =G34 -> 0 | L35: =F33 -> 0 | M35: =G33 -> 0
F36: =明細書!AF46 -> 0 | J36: =F36 -> 0 | K36: =G36 -> 0 | L36: =F35 -> 0 | M36: =G35 -> 0
C37: =明細書!AH4 -> 0 | J37: =F38 -> 0 | K37: =G38 -> 0 | L37: =F37 -> 0 | M37: =G37 -> 0
F38: =明細書!AJ46 -> 0 | J38: =F40 -> 0 | K38: =G40 -> 0 | L38: =F39 -> 0 | M38: =G39 -> 0
C39: =明細書!AL4 -> 0 | J39: =F42 -> 0 | K39: =G42 -> 0 | L39: =F41 -> 0 | M39: =G41 -> 0
F40: =明細書!AN46 -> 0
C41: =明細書!AP4 -> 0
F42: =明細書!AR46 -> 0
C43: 小 計 | F43: =F33+F35+F37+F39+F41 -> 0 | G43: =G33+G35+G37+G39+G41 -> 0
F44: =F34+F36+F38+F40+F42 -> 0 | G44: =G34+G36+G38+G40+G42 -> 0 | I44: =IF(F9*0.3>=G44,"OK","←注意：間接経費が助成額の３０％以上で不可") -> OK
B45: 合 計 | F45: =F31+F43 -> 0 | G45: =G31+G43 -> 0 | I45: =IF((F15-F46)=0,"OK","←注意：収入と支出の合計額不一致") -> OK
F46: =F32+F44 -> 0 | G46: =G32+G44 -> 0 | I46: =IF((F9-G46)=0,"OK","←注意：助成金と助成対象金額が不一致") -> OK
B48: ※ 申請額を上段（ ）内に、実績を下段に記入してください。
B49: ※ 支出欄の助成対象金額の合計額は、助成金額を超えないように記載してください。
B50: ※ 金額欄と積算根拠、各区分の小計、収入・支出の合計等が合っているか、必ず確認してください。
B51: ※ 必要に応じて、欄を追加・拡大して、理解しやすいように記載してください。
...

Sheet 見本・収支決算書
A2: 別記 | E2: 地域づくり活動事業 団体名（ | F2: (特非)○○○ | H2: ）
A4: 収 支 決 算 書
A6: （ 収 入 ）
B7: 項 目 | D7: 金額の内容・積算根拠 | F7: 金額（円）
B8: 地域づくり活動NPO事業助成金 | F8: 500000 | G8: ※助成金額は
F9: =F8 -> 500000 | G9: 千円未満切捨て
B10: 事業収入 | D10: 参加費 ＠500*120 | F10: 67000
F11: =500*120 -> 60000
B12: 自己資金 | F12: 0
F13: 3111
B14: 合 計 | F14: =F8+F10+F12 -> 567000
F15: =F9+F11+F13 -> 563111
A19: （ 支 出 ） | J19: 【チェックポイント】
B20: 区分 | C20: 項 目 | D20: 金額の内容・積算根拠 | F20: 金額（円） | G20: 左のうち 助成対象金額 | J20: ① 収支予算書に記載のない項目を新設する場合
B21: 直 接 経 費 | C21: 人件費 | D21: 担当職員＠1,450×90時間 | E21: =1450*90 -> 130500 | F21: 135000 | G21: =F21 -> 135000 | J21: (収入)・(支出)の金額欄・助成対象金額欄の上段は〔 0 〕
D22: 広報担当職員＠1,450×１0時間 | E22: =1450*10 -> 14500 | F22: =E21+E22 -> 145000 | G22: 137000 | K22: (収入)項目の場合 ⇒ 相談不要
C23: 旅費交通費 | D23: 講師旅費 | E23: 53250 | F23: 56000 | G23: 33000 | K23: (支出)項目の場合 ⇒ 事務局に相談を！⇒承認が必要です
D24: 職員活動旅費 | E24: 24750 | F24: =E23+E24 -> 78000 | G24: 75000 | J24: ② 備品費の助成対象金額は助成額の20％以内
C25: 謝金 | D25: 講師＠6,500円X12時間X2人 | E25: =6500*12*2 -> 156000 | F25: 180000 | G25: 180000 | J25: ③ 間接経費の助成対象額は助成額の30％以内
D26: ﾎﾞﾗﾝﾃｨｱ活動費＠1500X12時間X2人 | E26: =1500*12*2 -> 36000 | F26: =E25+E26 -> 192000 | G26: 170000 | J26: ④ 行を追加・削除した場合、エクセルの計算式が反映されているか確認
C27: 備品費 | D27: 鍵付き引き出し | F27: 85000 | G27: 60000
F28: =F27 -> 85000 | G28: =G27 -> 60000 | J28: =$F$22 -> 145000 | K28: =$F$22 -> 145000 | L28: =F21 -> 135000 | M28: =G21 -> 135000
C29: 消耗品費 | D29: 事務用品・消耗品費 | F29: 43000 | G29: 28000 | J29: =$F$24 -> 78000 | K29: =$F$24 -> 78000 | L29: =F23 -> 56000 | M29: =G23 -> 33000
F30: 23000 | G30: 18000 | J30: =$F$26 -> 192000 | K30: =$F$26 -> 192000 | L30: =F25 -> 180000 | M30: =G25 -> 180000
C31: 広報費 | D31: チラシ印刷費＠2,000×3回 | F31: 16000 | G31: =F31 -> 16000 | J31: =$F$28 -> 85000 | K31: =$F$28 -> 85000 | L31: =F27 -> 85000 | M31: =G27 -> 60000
F32: =2000*3 -> 6000 | G32: =F32 -> 6000 | J32: =$F$30 -> 23000 | K32: =$F$30 -> 23000 | L32: =F29 -> 43000 | M32: =G29 -> 28000
C33: 小 計 | F33: =F21+F23+F25+F27+F29+F31 -> 515000 | G33: =G21+G23+G25+G27+G29+G31 -> 452000 | J33: =$F$32 -> 6000 | K33: =$F$32 -> 6000 | L33: =F31 -> 16000 | M33: =G31 -> 16000
F34: =F22+F24+F26+F28+F30+F32 -> 529000 | G34: =G22+G24+G26+G28+G30+G32 -> 466000 | J34: =F34 -> 529000 | K34: =G34 -> 466000 | L34: =F33 -> 515000 | M34: =G33 -> 452000
B35: 間接経費（一般管理費） | C35: 人件費 | D35: 経理担当職員＠1,450×２０時間 | F35: 48000 | G35: =F35 -> 48000
F36: =1450*20 -> 29000 | G36: =F36 -> 29000
C37: 消耗品費 | D37: 事務用品・消耗品費 | F37: 0 | G37: =F37 -> 0 | J37: =F36 -> 29000 | K37: =G36 -> 29000 | L37: =F35 -> 48000 | M37: =G35 -> 48000
F38: 5111 | G38: 5000 | J38: =F38 -> 5111 | K38: =G38 -> 5000 | L38: =F37 -> 0 | M38: =G37 -> 0
C39: 雑役務費 | F39: 1000 | G39: =F39 -> 1000 | J39: =F40 -> 0 | K39: =G40 -> 0 | L39: =F39 -> 1000 | M39: =G39 -> 1000
F40: 0 | G40: =F40 -> 0 | J40: =F42 -> 0 | K40: =G42 -> 0 | L40: =F41 -> 0 | M40: =G41 -> 0
J41: =F44 -> 0 | K41: =G44 -> 0 | L41: =F43 -> 0 | M41: =G43 -> 0
J42: =F46 -> 34111 | K42: =G46 -> 34000 | L42: =F45 -> 49000 | M42: =G45 -> 49000
C45: 小 計 | F45: =F35+F37+F39+F41+F43 -> 49000 | G45: =G35+G37+G39+G41+G43 -> 49000
F46: =F36+F38+F40+F42+F44 -> 34111 | G46: =G36+G38+G40+G42+G44 -> 34000 | I46: =IF(F9*0.3>=G46,"OK","←注意：間接経費が助成額の３０％以上で不可") -> OK
B47: 合 計 | F47: =F33+F45 -> 564000 | G47: =G33+G45 -> 501000 | I47: =IF((F15-F48)=0,"OK","←注意：収入と支出の合計額不一致") -> OK
F48: =F34+F46 -> 563111 | G48: =G34+G46 -> 500000 | I48: =IF((F9-G48)=0,"OK","←注意：助成金と助成対象金額が不一致") -> OK
...

Sheet 請求書
A1: 様式第12号（第15条関係）
M2: 銀行
A3: 助 成 金 請 求 書 | M3: 信組
M4: 信金
H5: 令和 年 月 日 | M5: 農協
A8: 社会福祉法人兵庫県社会福祉協議会会長 様 | M8: 支店
M10: 出張所
F11: 請求者 | G11: 住 所 | H11: ='10号'!G12 -> 0
G12: 団体名 | H12: ='10号'!G13 -> 0
F13: 代表者 | G13: 職 名 | H13: ='10号'!G14 -> 0 | M13: 普通
G14: 氏 名 | H14: ='10号'!G15 -> 0 | M14: 当座
F16: 発行責任者 | G16: 氏 名 | M16: 貯蓄
G17: 電 話 | H17: ='10号'!G16 -> 0
G18: ﾒｰﾙｱﾄﾞﾚｽ | H18: ='10号'!G17 -> 0
F20: 担当者 | G20: 氏 名
G21: 電 話 | H21: =H17 -> 0
G22: ﾒｰﾙｱﾄﾞﾚｽ | H22: =H18 -> 0
B25: 令和８年６月１５日付け兵社ボ発第５８号で交付決定のあった令和８年度ひょうごボランタリー基金地域
A26: づくり活動NPO事業助成事業について、下記のとおり精算請求します。
A29: 記
C32: 助成金交付決定額 | E32: =収支決算書!F9 -> 0 | H32: 円
C33: 既受領額 | E33: 0 | H33: 円
C34: 今回請求額 | E34: =E32-E33 -> 0 | H34: 円
B35: 【振込先】
B36: 金融機関名 | G36: 支店名
B37: 預金種目 | G37: 口座番号
B38: （ﾌﾘｶﾞﾅ）
B39: 口座名義
B41: 注１: | C41: 団体名又は団体の代表者の口座を入力してください。
B42: 注２: | C42: 口座確認のため通帳の表紙とその裏面のコピーを添付してください。

Sheet ★削除禁止
E1: 代表者 | I1: 収支決算書 | M1: 助成対象額
A2: 団体名 | B2: 報告日 | C2: 〒 | D2: 住所 | E2: 職名 | F2: 氏名 | G2: TEL | H2: メール | I2: 申請 収入計 | J2: 実績 収入計 | K2: 申請 支出計 | L2: 実績 支出計 | M2: 請求額
A3: ='10号'!G13 -> 0 | B3: ='10号'!I7 -> 令和 年 月 日 | C3: ='10号'!G11 -> 0 | D3: ='10号'!G12 -> 0 | E3: ='10号'!G14 -> 0 | F3: ='10号'!G15 -> 0 | G3: ='10号'!G16 -> 0 | H3: ='10号'!G17 -> 0 | I3: =収支決算書!F14 -> #N/A | J3: =収支決算書!F15 -> 0 | K3: =収支決算書!F45 -> 0 | L3: =収支決算書!F46 -> 0 | M3: =収支決算書!G46 -> 0

Sheet ★HP用実績報告
A1: 地域づくり活動NPO事業助成事業 実績報告
B2: 事業区分 | C2: =VLOOKUP(C3,★団体交付決定一覧!D2:H49,4,FALSE) -> #N/A | D2: ― | E2: =VLOOKUP(C3,★団体交付決定一覧!D2:H49,5,FALSE) -> #N/A
A3: 団体名 | C3: ='10号'!G13 -> 0 | G3: 代表者名 | H3: (職名） | J3: (氏名）
H4: ='10号'!G14 -> 0 | J4: ='10号'!G15 -> 0
A5: 事業名 | C5: =VLOOKUP(C3,★団体交付決定一覧!D2:E49,2,FALSE) -> #N/A
A7: ＜事業実施実績＞
A8: 年月日 | C8: 場所 | E8: 参加者 | F8: 活動内容
A9: 定例は「月1回」 | E9: 一般 | F9: （勉強会や定例会、講演会、イベントなどを幅広に記入）
A10: 「毎〇曜日」等で記入 | E10: (ｽﾀｯﾌ) | F10: ※講演会、イベント等はタイトル・講師・会場等を併記
A11: ='４号'!A15 -> 0 | C11: ='４号'!D15 -> 0 | E11: ='４号'!E15 -> 0 | F11: ='４号'!F15 -> 0
E12: ='４号'!E16 -> 0
A13: ='４号'!A17 -> 0 | C13: ='４号'!D17 -> 0 | E13: ='４号'!E17 -> 0 | F13: ='４号'!F17 -> 0
E14: ='４号'!E18 -> 0
A15: ='４号'!A19 -> 0 | C15: ='４号'!D19 -> 0 | E15: ='４号'!E19 -> 0 | F15: ='４号'!F19 -> 0
E16: ='４号'!E20 -> 0
A17: ='４号'!A21 -> 0 | C17: ='４号'!D21 -> 0 | E17: ='４号'!E21 -> 0 | F17: ='４号'!F21 -> 0
E18: ='４号'!E22 -> 0
A19: ='４号'!A23 -> 0 | C19: ='４号'!D23 -> 0 | E19: ='４号'!E23 -> 0 | F19: ='４号'!F23 -> 0
E20: ='４号'!E24 -> 0
A21: ='４号'!A25 -> 0 | C21: ='４号'!D25 -> 0 | E21: ='４号'!E25 -> 0 | F21: ='４号'!F25 -> 0
E22: ='４号'!E26 -> 0
A23: ='４号'!A27 -> 0 | C23: ='４号'!D27 -> 0 | E23: ='４号'!E27 -> 0 | F23: ='４号'!F27 -> 0
E24: ='４号'!E28 -> 0
A25: ='４号'!A29 -> 0 | C25: ='４号'!D29 -> 0 | E25: ='４号'!E29 -> 0 | F25: ='４号'!F29 -> 0
E26: ='４号'!E30 -> 0
A27: ='４号'!A31 -> 0 | C27: ='４号'!D31 -> 0 | E27: ='４号'!E31 -> 0 | F27: ='４号'!F31 -> 0
E28: ='４号'!E32 -> 0
A29: ='４号'!A33 -> 0 | C29: ='４号'!D33 -> 0 | E29: ='４号'!E33 -> 0 | F29: ='４号'!F33 -> 0
E30: ='４号'!E34 -> 0
A31: ='４号'!A35 -> 0 | C31: ='４号'!D35 -> 0 | E31: ='４号'!E35 -> 0 | F31: ='４号'!F35 -> 0
E32: ='４号'!E36 -> 0
A33: ='４号'!A37 -> 0 | C33: ='４号'!D37 -> 0 | E33: ='４号'!E37 -> 0 | F33: ='４号'!F37 -> 0
E34: ='４号'!E38 -> 0
A35: ='４号'!A39 -> 0 | C35: ='４号'!D39 -> 0 | E35: ='４号'!E39 -> 0 | F35: ='４号'!F39 -> 0
E36: ='４号'!E40 -> 0
A37: ='４号'!A41 -> 0 | C37: ='４号'!D41 -> 0 | E37: ='４号'!E41 -> 0 | F37: ='４号'!F41 -> 0
E38: ='４号'!E42 -> 0
A39: ='４号'!A43 -> 0 | C39: ='４号'!D43 -> 0 | E39: ='４号'!E43 -> 0 | F39: ='４号'!F43 -> 0
E40: ='４号'!E44 -> 0
A41: ='４号'!A45 -> 0 | C41: ='４号'!D45 -> 0 | E41: ='４号'!E45 -> 0 | F41: ='４号'!F45 -> 0
...

Sheet ★団体交付決定一覧
A1: 連番 | B1: 分野 | C1: 番号 | D1: 団体名 | E1: 事業名 | F1: 交付決定額 | G1: 分野 | H1: 番号
A2: 1 | B2: 1 | C2: 1 | D2: (特非)ゲートキーパー支援センター | E2: 地域のこころの相談室「あまりす」 | F2: 500000 | G2: 1 | H2: 1
A3: 2 | B3: 1 | C3: 2 | D3: (特非)ビレッジ | E3: 障がいのある子どもと『よければいっしょに家族写真』 | F3: 380000 | G3: 1 | H3: 2
A4: 3 | B4: 1 | C4: 3 | D4: (特非)YOU医療保健福祉研究所 | E4: YOU“地域連携”のための研修会 ～多職種集まれ！～ | F4: 250000 | G4: 1 | H4: 3
A5: 4 | B5: 1 | C5: 4 | D5: (特非)神戸アスリートタウンクラブ | E5: 体力測定会 | F5: 400000 | G5: 1 | H5: 4
A6: 5 | B6: 1 | C6: 5 | D6: (特非)ふりかけ | E6: 集いの場創設事業（日常の小さな幸せを実現） | F6: 377000 | G6: 1 | H6: 5
A7: 6 | B7: 1 | C7: 6 | D7: (特非)鶴甲サポートセンター | E7: いつでもお元気で！近隣助け合い運動 | F7: 500000 | G7: 1 | H7: 6
A8: 7 | B8: 1 | C8: 7 | D8: (特非)ハートフル障害者相談支援センター輪っふる | E8: 精神障害者支援における医療・保健・福祉、介護との連携に向けた研修会 | F8: 240000 | G8: 1 | H8: 7
A9: 8 | B9: 1 | C9: 8 | D9: (認定)てんびん | E9: パーキンソン病当事者のための発声リハビリと歌声による社会参加支援事業 | F9: 500000 | G9: 1 | H9: 8
A10: 9 | B10: 1 | C10: 9 | D10: (特非)保健福祉文化南光基金 | E10: 小学校跡のアートセンターを基盤とする地域の保健福祉文化活動の活性化 | F10: 400000 | G10: 1 | H10: 9
A11: 10 | B11: 2 | C11: 1 | D11: (一社)ウィンウィン | E11: 家族(子と親)＆高齢者が幸せになるケア支援の「社会教育事業」 | F11: 500000 | G11: 2 | H11: 1
A12: 11 | B12: 2 | C12: 2 | D12: (特非)Co-Creation このゆびとまれ | E12: ドローン等を活用した里山地形の可視化による 防災教育プログラムの実施 | F12: 400000 | G12: 2 | H12: 2
A13: 12 | B13: 2 | C13: 3 | D13: (特非)つどう場こうべ | E13: 外国人等日本語学習者のための、社会参加のための日本語教材の作成 | F13: 500000 | G13: 2 | H13: 3
... A49: 48 | B49: 19 | C49: 3 | D49: (認定)コミュニティ・サポートセンター神戸 | E49: 現役企業人の地域活動参加促進のための調査研究および研修事業 | F49: 500000 | G49: 19 | H49: 3
A50: 1 | B50: 基本 | C50: 1 | D50: (特非)コミュニティアートセンタープラッツ | E50: 地域コーディネーターの発掘と活動者との交流 | F50: 500000 | G50: 基本 | H50: 1
A51: 2 | B51: 基本 | C51: 2 | D51: (特非)あしたあさって | E51: 小さな地域のつながりづくり支援事業 | F51: 400000 | G51: 基本 | H51: 2
A52: 3 | B52: 基本 | C52: 3 | D52: (認定)ソーシャルデザインセンター淡路 | E52: SODA地域応援事業2026 | F52: 500000 | G52: 基本 | H52: 3
A53: 4 | B53: 基本 | C53: 4 | D53: (認定)コムサロン２１ | E53: 播磨NPO中間支援センター事業 | F53: 500000 | G53: 基本 | H53: 4
A54: 5 | B54: 基本 | C54: 5 | D54: (認定)しみん基金・こうべ | E54: 助成・顕彰事業の両立実施と広報活動 | F54: 500000 | G54: 基本 | H54: 5
A55: 6 | B55: 基本 | C55: 6 | D55: (特非)あしやNPOセンター | E55: 市民活動者の発掘・育成・自立支援事業 ～相談カフェ＆Just do it～ | F55: 500000 | G55: 基本 | H55: 6
A56: 7 | B56: 基本 | C56: 7 | D56: (一社)さんぴぃす | E56: AIを活用した新たな中間支援事業のモデル化 | F56: 500000 | G56: 基本 | H56: 7
A57: 8 | B57: 基本 | C57: 8 | D57: (一社)みくもや | E57: 私設図書館ユニット422の運営を通じた若者支援及び中間支援事業 | F57: 500000 | G57: 基本 | H57: 8
A58: 9 | B58: 基本 | C58: 9 | D58: (特非)北播磨市民活動支援センター | E58: 地域NPOの基盤強化と実践を通じた人材育成・連携促進事業 | F58: 500000 | G58: 基本 | H58: 9
A59: 10 | B59: 基本 | C59: 10 | D59: 公益財団法人ひょうごコミュニティ財団 | E59: NPOと市民の“資金の縁結び“の仕組み『共感寄付プログラム』によるNPOの資金獲得支援 | F59: 500000 | G59: 基本 | H59: 10
A60: 11 | B60: 基本 | C60: 11 | D60: (特非)兵庫ＳＰＯ支援センター | E60: 働いている人、遠隔地の人等多様な人のためのＮＰＯ等支援窓口 －淡路島の中間支援－ | F60: 500000 | G60: 基本 | H60: 11
A61: 12 | B61: 基本 | C61: 12 | D61: (特非)市民事務局かわにし | E61: 「NPO大学・マナビ塾」2026 | F61: 500000 | G61: 基本 | H61: 12
... A64: 15 | B64: 創設 | C64: 1 | D64: (特非)島くらし淡路 | E64: 淡路市中間支援ネットワーク ふらっと の事務局機能構築事業 | F64: 400000 | G64: 創設 | H64: 1
